Workbook

Sheet Classe
A1: Tilekol V5
A2: IMPORTANT: Enregistrez votre travail AVANT de trier. N'enregistrez PAS si un tri est actif. Ne faites pas de copier-coller simple, mais "copier", "collage spécial" > "valeurs" ou "texte". | G2: 1 | H2: 2 | I2: 3 | J2: 4 | K2: 5 | L2: 6 | M2: 7 | N2: 8 | O2: 9 | P2: 10 | Q2: 11 | R2: 12 | S2: 13 | T2: 14 | U2: 15 | V2: 16 | W2: 17 | X2: 18 | Y2: 19 | Z2: 20 | AA2: 21 | AB2: 22 | AC2: 23 | AD2: 24 | AE2: 25 | AF2: 26 | AG2: 27 | AH2: 28 | AI2: 29 | AJ2: 30 | AK2: 31 | AL2: 32 | AM2: 33 | AN2: 34 | AO2: 35 | AP2: 36 | AQ2: 37 | AR2: 38 | AS2: 39 | AT2: 40 | AU2: 41 | AV2: 42 | AW2: 43 | AX2: 44 | AY2: 45 | AZ2: 46 | BA2: 47 | BB2: 48 | BC2: 49 | BD2: 50 | BE2: 51
A3: Option | B3: Période | C3: Domaine | D3: Date | E3: Compétence | F3: Objectif | G3: André | H3: Bernard | I3: Brigitte | J3: Corinne | K3: Denis | L3: Eglantine | M3: François | N3: Hélène | O3: Lucie | P3: Marcel | Q3: Noémie | R3: Omar | S3: Pauline | T3: Samuel | U3: Thérèse | V3: Vince | W3: John | X3: Yoniess | Y3: Nabila | Z3: Kévina | AA3: Cyprien | AB3: Norman | AC3: Hugo | AD3: Jérome | BF3: Utilisez la flèche et "Trier croissant" si vous avez enregistré par mégarde un travail avec le tri activé
A4: X | B4: 1 | C4: Découvrir l'écrit | D4: 40909 | E4: Compétence 1 | F4: Objectif 1 | G4: 1 | H4: 4 | I4: 3 | J4: 4 | K4: 3 | L4: 1 | M4: 4 | N4: 1 | O4: 4 | P4: 1 | Q4: 2 | R4: 1 | S4: 1 | T4: 1 | U4: 1 | V4: 2 | W4: 1 | BF4: 1
B5: 2 | C5: Devenir élève | D5: 40940 | E5: Compétence 2 | F5: Objectif 2 | G5: 2 | H5: 3 | I5: 4 | J5: 1 | K5: 4 | L5: 2 | M5: 1 | N5: 2 | O5: 1 | P5: 2 | Q5: 3 | R5: 2 | S5: 1 | T5: 2 | U5: 2 | V5: 1 | W5: 2 | BF5: 2
B6: 3 | C6: Découvrir le monde | D6: 40969 | E6: Compétence 3 | F6: Objectif 3 | G6: 3 | H6: 2 | I6: 1 | J6: 2 | K6: 4 | L6: 3 | M6: 2 | N6: 3 | O6: 2 | P6: 3 | Q6: 4 | R6: 3 | S6: 2 | T6: 3 | U6: 3 | V6: 2 | W6: 3 | BF6: 3
B7: 1 | C7: S'approprier le langage | D7: 40970 | E7: Compétence 4 | F7: Objectif 4 | G7: 4 | H7: 1 | I7: 2 | J7: 5 | K7: 3 | L7: 4 | M7: 3 | N7: 4 | O7: 3 | P7: 4 | Q7: 2 | R7: 4 | S7: 3 | T7: 4 | U7: 4 | V7: 3 | W7: 4 | BF7: 4
B8: 2 | C8: Découvrir le monde | D8: 40971 | E8: Compétence 5 | F8: Objectif 5 | G8: 5 | H8: 3 | I8: 5 | J8: 3 | K8: 2 | L8: 5 | M8: 4 | N8: 5 | O8: 4 | P8: 5 | Q8: 3 | R8: 5 | S8: 4 | T8: 5 | U8: 5 | V8: 4 | W8: 5 | BF8: 5
B9: 3 | C9: Percevoir, sentir, imaginer, créer | D9: 40972 | E9: Compétence 6 | F9: Objectif 6 | G9: 4 | H9: 2 | I9: 4 | J9: 4 | K9: 3 | L9: 5 | M9: 5 | N9: 5 | O9: 5 | P9: 5 | Q9: 5 | R9: 5 | S9: 5 | T9: 4 | U9: 4 | V9: 5 | W9: 4 | BF9: 6
BF10: 7
BF11: 8
BF12: 9
BF13: 10
BF14: 11
BF15: 12
BF16: 13
BF17: 14
BF18: 15
BF19: 16
BF20: 17
BF21: 18
... BF303: 300

Sheet Observation
A1: N° | B1: 1 | C1: 2 | D1: 3 | E1: 4 | F1: 5 | G1: 6 | H1: 7 | I1: 8 | J1: 9 | K1: 10 | L1: 11 | M1: 12 | N1: 13 | O1: 14 | P1: 15 | Q1: 16 | R1: 17 | S1: 18 | T1: 19 | U1: 20 | V1: 21 | W1: 22 | X1: 23 | Y1: 24 | Z1: 25 | AA1: 26 | AB1: 27 | AC1: 28 | AD1: 29 | AE1: 30 | AF1: 31 | AG1: 32 | AH1: 33 | AI1: 34 | AJ1: 35 | AK1: 36 | AL1: 37 | AM1: 38 | AN1: 39 | AO1: 40 | AP1: 41 | AQ1: 42 | AR1: 43 | AS1: 44 | AT1: 45 | AU1: 46 | AV1: 47 | AW1: 48 | AX1: 49 | AY1: 50 | AZ1: 51
A2: Elève | B2: =Classe!G3 -> André | C2: =Classe!H3 -> Bernard | D2: =Classe!I3 -> Brigitte | E2: =Classe!J3 -> Corinne | F2: =Classe!K3 -> Denis | G2: =Classe!L3 -> Eglantine | H2: =Classe!M3 -> François | I2: =Classe!N3 -> Hélène | ... AZ2: =Classe!BE3 -> 0
A3: Facultatif: nom, date de naissance, etc… | B3: André DURAND, né le 1 avril 2006 | F3: Denis NOM date de naissance
A4: Observation 1 | B4: Gaucher
A5: Observation 2 | B5: A participé à l'APC en période 1 | D5: Ne mettez pas de texte trop long, il ne s'affichera pas correctement dans le rapport (cette longueur est OK)
A6: Observation 3 | B6: Compte jusqu'à 20
A7: Observation 4 | B7: Alphabet: ne connaît pas les lettres K, V, W, Y, Z
A8: Observation 5 | B8: A été absent 15 jours en novembre
A9: Observation 6 | B9: Allergique aux crevettes
A10: Observation 7 | B10: Sa petite sœur est en MS dans l'école
A11: Observation 8 | B11: Doué en arts plastiques
A12: Observation 9 | B12: Réunion avec les parents le 12 décembre
A13: Observation 10 | B13: Travailler la reconnaissance des couleurs à l'accueil
A14: Observation 11
A15: Observation 12
A16: Ci-dessous, vous avez 25 lignes à votre disposition pour l'onglet "fiche-élève".
A17: Ici, vous écrivez les intitulés
A18: Exemples :
A19: Fratrie : rang | B19: Deuxième sur trois enfants
A20: Dans l'école : | B20: Oui, en CP (Albertine)
A21: Santé :
A22: Allergies | B22: OUI (fruits de mer) et steack haché
A23: PAI | B23: Non
A24: Pathologie Dys | B24: Non
A25: RASED :
A26: Suivi | B26: Oui
A27: Par | B27: Mme Dupont
A28: Bilan Psy | B28: Oui, le 10/08/2013

Sheet Rapport
B1: Ecole Tilékol | I1: Petit paramétrage: Indiquez dans les cases roses le texte que vous voulez faire apparaître dans la colonne "Résultat" en fonction du nombre que vous avez entré dans l'évaluation de l'onglet "classe". Il vous suffit pour cela de remplacer par exemple "Acquis" par ce que vous voulez: "A", "compris", "réussi", etc...
A2: N°: | B2: Livret
A3: 1 | D3: Elève: | F3: =IF(A3<>0,HLOOKUP(A3,Classe!2:3,2,0)," ") -> André | G3: =OFFSET(Observation!A3,0,Rapport!A3) -> André DURAND, né le 1 avril 2006
B4: Observations:
B6: =OFFSET(Observation!A4,0,$A$3) -> Gaucher | I6: 1 | J6: Absent
B7: =OFFSET(Observation!A5,0,$A$3) -> A participé à l'APC en période 1 | I7: 2 | J7: Non réussi
B8: =OFFSET(Observation!A6,0,$A$3) -> Compte jusqu'à 20 | I8: 3 | J8: En voie de réussite
B9: =OFFSET(Observation!A7,0,$A$3) -> Alphabet: ne connaît pas les lettres K, V, W, Y, Z | I9: 4 | J9: Presque réussi
B10: =OFFSET(Observation!A8,0,$A$3) -> A été absent 15 jours en novembre | I10: 5 | J10: Réussi
B11: =OFFSET(Observation!A9,0,$A$3) -> Allergique aux crevettes
B12: =OFFSET(Observation!A10,0,$A$3) -> Sa petite sœur est en MS dans l'école
B13: =OFFSET(Observation!A11,0,$A$3) -> Doué en arts plastiques | I13: N'oubliez pas de définir la zone d'impression avant d'imprimer.
B14: =OFFSET(Observation!A12,0,$A$3) -> Réunion avec les parents le 12 décembre
B15: =OFFSET(Observation!A13,0,$A$3) -> Travailler la reconnaissance des couleurs à l'accueil
B16: =OFFSET(Observation!A14,0,$A$3) -> 0
B17: =OFFSET(Observation!A15,0,$A$3) -> 0
A18: Option | B18: Période | C18: Domaine | D18: Date | E18: =Classe!E3 -> Compétence | F18: =Classe!F3 -> Objectif | G18: Résultat | I18: Triez dans l'onglet "rapport", puis filtrez ici si nécessaire. | IM18: ABS | IN18: Domaine | IO18: Période | IP18: Option | IQ18: Date | IR18: =Classe!E3 -> Compétence | IS18: =Classe!F3 -> Objectif | IT18: NO
A19: =IF(IP19=0," ",IP19) -> X | B19: =IF(IO19=0," ",IO19) -> 1 | C19: =IF(IN19=0," ",IN19) -> Découvrir l'écrit | D19: =IF(IQ19=0," ",IQ19) -> 40909 | E19: =IF(IR19=0," ",IR19) -> Compétence 1 | F19: =IF(IS19=0," ",IS19) -> Objectif 1 | G19: =IF(AND(IM19>=1,IM19<=5),IF(IM19<>"",CHOOSE(IM19,$J$6,$J$7,$J$8,$J$9,$J$10),IM19),IM19) -> Absent | H19: =G19 -> Absent | IK19: =IF(AND(IM19>=1,IM19<=5),TRUE,FALSE) -> TRUE | IM19: =IF($A$3<>0,HLOOKUP($A$3,Classe!$2:$565,IT20,0)," ") -> 1 | IN19: =IF($A$3<>0,HLOOKUP($IN$18,Classe!$3:$502,IT19,0)," ") -> Découvrir l'écrit | IO19: =IF($A$3<>0,HLOOKUP($IO$18,Classe!$3:$502,IT19,0)," ") -> 1 | IP19: =IF($A$3<>0,HLOOKUP($IP$18,Classe!$3:$502,IT19,0)," ") -> X | IQ19: =IF($A$3<>0,HLOOKUP($IQ$18,Classe!$3:$502,IT19,0)," ") -> 40909 | IR19: =IF($A$3<>0,HLOOKUP($IR$18,Classe!$3:$502,IT19,0)," ") -> Compétence 1 | IS19: =IF($A$3<>0,HLOOKUP($IS$18,Classe!$3:$502,IT19,0)," ") -> Objectif 1 | IT19: 2
A20: =IF(IP20=0," ",IP20) | B20: =IF(IO20=0," ",IO20) -> 2 | C20: =IF(IN20=0," ",IN20) -> Devenir élève | D20: =IF(IQ20=0," ",IQ20) -> 40940 | E20: =IF(IR20=0," ",IR20) -> Compétence 2 | F20: =IF(IS20=0," ",IS20) -> Objectif 2 | G20: =IF(AND(IM20>=1,IM20<=5),IF(IM20<>"",CHOOSE(IM20,$J$6,$J$7,$J$8,$J$9,$J$10),IM20),IM20) -> Non réussi | H20: =G20 -> Non réussi | IM20: =IF($A$3<>0,HLOOKUP($A$3,Classe!$2:$565,IT21,0)," ") -> 2 | IN20: =IF($A$3<>0,HLOOKUP($IN$18,Classe!$3:$502,IT20,0)," ") -> Devenir élève | IO20: =IF($A$3<>0,HLOOKUP($IO$18,Classe!$3:$502,IT20,0)," ") -> 2 | IP20: =IF($A$3<>0,HLOOKUP($IP$18,Classe!$3:$502,IT20,0)," ") -> 0 | IQ20: =IF($A$3<>0,HLOOKUP($IQ$18,Classe!$3:$502,IT20,0)," ") -> 40940 | IR20: =IF($A$3<>0,HLOOKUP($IR$18,Classe!$3:$502,IT20,0)," ") -> Compétence 2 | IS20: =IF($A$3<>0,HLOOKUP($IS$18,Classe!$3:$502,IT20,0)," ") -> Objectif 2 | IT20: 3
A21: =IF(IP21=0," ",IP21) | B21: =IF(IO21=0," ",IO21) -> 3 | C21: =IF(IN21=0," ",IN21) -> Découvrir le monde | D21: =IF(IQ21=0," ",IQ21) -> 40969 | E21: =IF(IR21=0," ",IR21) -> Compétence 3 | F21: =IF(IS21=0," ",IS21) -> Objectif 3 | G21: =IF(AND(IM21>=1,IM21<=5),IF(IM21<>"",CHOOSE(IM21,$J$6,$J$7,$J$8,$J$9,$J$10),IM21),IM21) -> En voie de réussite | H21: =G21 -> En voie de réussite | IM21: =IF($A$3<>0,HLOOKUP($A$3,Classe!$2:$565,IT22,0)," ") -> 3 | IN21: =IF($A$3<>0,HLOOKUP($IN$18,Classe!$3:$502,IT21,0)," ") -> Découvrir le monde | IO21: =IF($A$3<>0,HLOOKUP($IO$18,Classe!$3:$502,IT21,0)," ") -> 3 | IP21: =IF($A$3<>0,HLOOKUP($IP$18,Classe!$3:$502,IT21,0)," ") -> 0 | IQ21: =IF($A$3<>0,HLOOKUP($IQ$18,Classe!$3:$502,IT21,0)," ") -> 40969 | IR21: =IF($A$3<>0,HLOOKUP($IR$18,Classe!$3:$502,IT21,0)," ") -> Compétence 3 | IS21: =IF($A$3<>0,HLOOKUP($IS$18,Classe!$3:$502,IT21,0)," ") -> Objectif 3 | IT21: 4
A22: =IF(IP22=0," ",IP22) | B22: =IF(IO22=0," ",IO22) -> 1 | C22: =IF(IN22=0," ",IN22) -> S'approprier le langage | D22: =IF(IQ22=0," ",IQ22) -> 40970 | E22: =IF(IR22=0," ",IR22) -> Compétence 4 | F22: =IF(IS22=0," ",IS22) -> Objectif 4 | G22: =IF(AND(IM22>=1,IM22<=5),IF(IM22<>"",CHOOSE(IM22,$J$6,$J$7,$J$8,$J$9,$J$10),IM22),IM22) -> Presque réussi | H22: =G22 -> Presque réussi | IM22: =IF($A$3<>0,HLOOKUP($A$3,Classe!$2:$565,IT23,0)," ") -> 4 | IN22: =IF($A$3<>0,HLOOKUP($IN$18,Classe!$3:$502,IT22,0)," ") -> S'approprier le langage | IO22: =IF($A$3<>0,HLOOKUP($IO$18,Classe!$3:$502,IT22,0)," ") -> 1 | IP22: =IF($A$3<>0,HLOOKUP($IP$18,Classe!$3:$502,IT22,0)," ") -> 0 | IQ22: =IF($A$3<>0,HLOOKUP($IQ$18,Classe!$3:$502,IT22,0)," ") -> 40970 | IR22: =IF($A$3<>0,HLOOKUP($IR$18,Classe!$3:$502,IT22,0)," ") -> Compétence 4 | IS22: =IF($A$3<>0,HLOOKUP($IS$18,Classe!$3:$502,IT22,0)," ") -> Objectif 4 | IT22: 5
A23: =IF(IP23=0," ",IP23) | B23: =IF(IO23=0," ",IO23) -> 2 | C23: =IF(IN23=0," ",IN23) -> Découvrir le monde | D23: =IF(IQ23=0," ",IQ23) -> 40971 | E23: =IF(IR23=0," ",IR23) -> Compétence 5 | F23: =IF(IS23=0," ",IS23) -> Objectif 5 | G23: =IF(AND(IM23>=1,IM23<=5),IF(IM23<>"",CHOOSE(IM23,$J$6,$J$7,$J$8,$J$9,$J$10),IM23),IM23) -> Réussi | H23: =G23 -> Réussi | IM23: =IF($A$3<>0,HLOOKUP($A$3,Classe!$2:$565,IT24,0)," ") -> 5 | IN23: =IF($A$3<>0,HLOOKUP($IN$18,Classe!$3:$502,IT23,0)," ") -> Découvrir le monde | IO23: =IF($A$3<>0,HLOOKUP($IO$18,Classe!$3:$502,IT23,0)," ") -> 2 | IP23: =IF($A$3<>0,HLOOKUP($IP$18,Classe!$3:$502,IT23,0)," ") -> 0 | IQ23: =IF($A$3<>0,HLOOKUP($IQ$18,Classe!$3:$502,IT23,0)," ") -> 40971 | IR23: =IF($A$3<>0,HLOOKUP($IR$18,Classe!$3:$502,IT23,0)," ") -> Compétence 5 | IS23: =IF($A$3<>0,HLOOKUP($IS$18,Classe!$3:$502,IT23,0)," ") -> Objectif 5 | IT23: 6
A24: =IF(IP24=0," ",IP24) | B24: =IF(IO24=0," ",IO24) -> 3 | C24: =IF(IN24=0," ",IN24) -> Percevoir, sentir, imaginer, créer | D24: =IF(IQ24=0," ",IQ24) -> 40972 | E24: =IF(IR24=0," ",IR24) -> Compétence 6 | F24: =IF(IS24=0," ",IS24) -> Objectif 6 | G24: =IF(AND(IM24>=1,IM24<=5),IF(IM24<>"",CHOOSE(IM24,$J$6,$J$7,$J$8,$J$9,$J$10),IM24),IM24) -> Presque réussi | H24: =G24 -> Presque réussi | IM24: =IF($A$3<>0,HLOOKUP($A$3,Classe!$2:$565,IT25,0)," ") -> 4 | IN24: =IF($A$3<>0,HLOOKUP($IN$18,Classe!$3:$502,IT24,0)," ") -> Percevoir, sentir, imaginer, créer | IO24: =IF($A$3<>0,HLOOKUP($IO$18,Classe!$3:$502,IT24,0)," ") -> 3 | IP24: =IF($A$3<>0,HLOOKUP($IP$18,Classe!$3:$502,IT24,0)," ") -> 0 | IQ24: =IF($A$3<>0,HLOOKUP($IQ$18,Classe!$3:$502,IT24,0)," ") -> 40972 | IR24: =IF($A$3<>0,HLOOKUP($IR$18,Classe!$3:$502,IT24,0)," ") -> Compétence 6 | IS24: =IF($A$3<>0,HLOOKUP($IS$18,Classe!$3:$502,IT24,0)," ") -> Objectif 6 | IT24: 7
A25: =IF(IP25=0," ",IP25) | B25: =IF(IO25=0," ",IO25) | C25: =IF(IN25=0," ",IN25) | D25: =IF(IQ25=0," ",IQ25) | E25: =IF(IR25=0," ",IR25) | F25: =IF(IS25=0," ",IS25) | G25: =IF(AND(IM25>=1,IM25<=5),IF(IM25<>"",CHOOSE(IM25,$J$6,$J$7,$J$8,$J$9,$J$10),IM25),IM25) -> 0 | H25: =G25 -> 0 | IM25: =IF($A$3<>0,HLOOKUP($A$3,Classe!$2:$565,IT26,0)," ") -> 0 | IN25: =IF($A$3<>0,HLOOKUP($IN$18,Classe!$3:$502,IT25,0)," ") -> 0 | IO25: =IF($A$3<>0,HLOOKUP($IO$18,Classe!$3:$502,IT25,0)," ") -> 0 | IP25: =IF($A$3<>0,HLOOKUP($IP$18,Classe!$3:$502,IT25,0)," ") -> 0 | IQ25: =IF($A$3<>0,HLOOKUP($IQ$18,Classe!$3:$502,IT25,0)," ") -> 0 | IR25: =IF($A$3<>0,HLOOKUP($IR$18,Classe!$3:$502,IT25,0)," ") -> 0 | IS25: =IF($A$3<>0,HLOOKUP($IS$18,Classe!$3:$502,IT25,0)," ") -> 0 | IT25: 8
A26: =IF(IP26=0," ",IP26) | B26: =IF(IO26=0," ",IO26) | C26: =IF(IN26=0," ",IN26) | D26: =IF(IQ26=0," ",IQ26) | E26: =IF(IR26=0," ",IR26) | F26: =IF(IS26=0," ",IS26) | G26: =IF(AND(IM26>=1,IM26<=5),IF(IM26<>"",CHOOSE(IM26,$J$6,$J$7,$J$8,$J$9,$J$10),IM26),IM26) -> 0 | H26: =G26 -> 0 | IM26: =IF($A$3<>0,HLOOKUP($A$3,Classe!$2:$565,IT27,0)," ") -> 0 | IN26: =IF($A$3<>0,HLOOKUP($IN$18,Classe!$3:$502,IT26,0)," ") -> 0 | IO26: =IF($A$3<>0,HLOOKUP($IO$18,Classe!$3:$502,IT26,0)," ") -> 0 | IP26: =IF($A$3<>0,HLOOKUP($IP$18,Classe!$3:$502,IT26,0)," ") -> 0 | IQ26: =IF($A$3<>0,HLOOKUP($IQ$18,Classe!$3:$502,IT26,0)," ") -> 0 | IR26: =IF($A$3<>0,HLOOKUP($IR$18,Classe!$3:$502,IT26,0)," ") -> 0 | IS26: =IF($A$3<>0,HLOOKUP($IS$18,Classe!$3:$502,IT26,0)," ") -> 0 | IT26: 9
A27: =IF(IP27=0," ",IP27) | B27: =IF(IO27=0," ",IO27) | C27: =IF(IN27=0," ",IN27) | D27: =IF(IQ27=0," ",IQ27) | E27: =IF(IR27=0," ",IR27) | F27: =IF(IS27=0," ",IS27) | G27: =IF(AND(IM27>=1,IM27<=5),IF(IM27<>"",CHOOSE(IM27,$J$6,$J$7,$J$8,$J$9,$J$10),IM27),IM27) -> 0 | H27: =G27 -> 0 | IM27: =IF($A$3<>0,HLOOKUP($A$3,Classe!$2:$565,IT28,0)," ") -> 0 | IN27: =IF($A$3<>0,HLOOKUP($IN$18,Classe!$3:$502,IT27,0)," ") -> 0 | IO27: =IF($A$3<>0,HLOOKUP($IO$18,Classe!$3:$502,IT27,0)," ") -> 0 | IP27: =IF($A$3<>0,HLOOKUP($IP$18,Classe!$3:$502,IT27,0)," ") -> 0 | IQ27: =IF($A$3<>0,HLOOKUP($IQ$18,Classe!$3:$502,IT27,0)," ") -> 0 | IR27: =IF($A$3<>0,HLOOKUP($IR$18,Classe!$3:$502,IT27,0)," ") -> 0 | IS27: =IF($A$3<>0,HLOOKUP($IS$18,Classe!$3:$502,IT27,0)," ") -> 0 | IT27: 10
A28: =IF(IP28=0," ",IP28) | B28: =IF(IO28=0," ",IO28) | C28: =IF(IN28=0," ",IN28) | D28: =IF(IQ28=0," ",IQ28) | E28: =IF(IR28=0," ",IR28) | F28: =IF(IS28=0," ",IS28) | G28: =IF(AND(IM28>=1,IM28<=5),IF(IM28<>"",CHOOSE(IM28,$J$6,$J$7,$J$8,$J$9,$J$10),IM28),IM28) -> 0 | H28: =G28 -> 0 | IM28: =IF($A$3<>0,HLOOKUP($A$3,Classe!$2:$565,IT29,0)," ") -> 0 | IN28: =IF($A$3<>0,HLOOKUP($IN$18,Classe!$3:$502,IT28,0)," ") -> 0 | IO28: =IF($A$3<>0,HLOOKUP($IO$18,Classe!$3:$502,IT28,0)," ") -> 0 | IP28: =IF($A$3<>0,HLOOKUP($IP$18,Classe!$3:$502,IT28,0)," ") -> 0 | IQ28: =IF($A$3<>0,HLOOKUP($IQ$18,Classe!$3:$502,IT28,0)," ") -> 0 | IR28: =IF($A$3<>0,HLOOKUP($IR$18,Classe!$3:$502,IT28,0)," ") -> 0 | IS28: =IF($A$3<>0,HLOOKUP($IS$18,Classe!$3:$502,IT28,0)," ") -> 0 | IT28: 11
A29: =IF(IP29=0," ",IP29) | B29: =IF(IO29=0," ",IO29) | C29: =IF(IN29=0," ",IN29) | D29: =IF(IQ29=0," ",IQ29) | E29: =IF(IR29=0," ",IR29) | F29: =IF(IS29=0," ",IS29) | G29: =IF(AND(IM29>=1,IM29<=5),IF(IM29<>"",CHOOSE(IM29,$J$6,$J$7,$J$8,$J$9,$J$10),IM29),IM29) -> 0 | H29: =G29 -> 0 | IM29: =IF($A$3<>0,HLOOKUP($A$3,Classe!$2:$565,IT30,0)," ") -> 0 | IN29: =IF($A$3<>0,HLOOKUP($IN$18,Classe!$3:$502,IT29,0)," ") -> 0 | IO29: =IF($A$3<>0,HLOOKUP($IO$18,Classe!$3:$502,IT29,0)," ") -> 0 | IP29: =IF($A$3<>0,HLOOKUP($IP$18,Classe!$3:$502,IT29,0)," ") -> 0 | IQ29: =IF($A$3<>0,HLOOKUP($IQ$18,Classe!$3:$502,IT29,0)," ") -> 0 | IR29: =IF($A$3<>0,HLOOKUP($IR$18,Classe!$3:$502,IT29,0)," ") -> 0 | IS29: =IF($A$3<>0,HLOOKUP($IS$18,Classe!$3:$502,IT29,0)," ") -> 0 | IT29: 12
A30: =IF(IP30=0," ",IP30) | B30: =IF(IO30=0," ",IO30) | C30: =IF(IN30=0," ",IN30) | D30: =IF(IQ30=0," ",IQ30) | E30: =IF(IR30=0," ",IR30) | F30: =IF(IS30=0," ",IS30) | G30: =IF(AND(IM30>=1,IM30<=5),IF(IM30<>"",CHOOSE(IM30,$J$6,$J$7,$J$8,$J$9,$J$10),IM30),IM30) -> 0 | H30: =G30 -> 0 | IM30: =IF($A$3<>0,HLOOKUP($A$3,Classe!$2:$565,IT31,0)," ") -> 0 | IN30: =IF($A$3<>0,HLOOKUP($IN$18,Classe!$3:$502,IT30,0)," ") -> 0 | IO30: =IF($A$3<>0,HLOOKUP($IO$18,Classe!$3:$502,IT30,0)," ") -> 0 | IP30: =IF($A$3<>0,HLOOKUP($IP$18,Classe!$3:$502,IT30,0)," ") -> 0 | IQ30: =IF($A$3<>0,HLOOKUP($IQ$18,Classe!$3:$502,IT30,0)," ") -> 0 | IR30: =IF($A$3<>0,HLOOKUP($IR$18,Classe!$3:$502,IT30,0)," ") -> 0 | IS30: =IF($A$3<>0,HLOOKUP($IS$18,Classe!$3:$502,IT30,0)," ") -> 0 | IT30: 13
A31: =IF(IP31=0," ",IP31) | B31: =IF(IO31=0," ",IO31) | C31: =IF(IN31=0," ",IN31) | D31: =IF(IQ31=0," ",IQ31) | E31: =IF(IR31=0," ",IR31) | F31: =IF(IS31=0," ",IS31) | G31: =IF(AND(IM31>=1,IM31<=5),IF(IM31<>"",CHOOSE(IM31,$J$6,$J$7,$J$8,$J$9,$J$10),IM31),IM31) -> 0 | H31: =G31 -> 0 | IM31: =IF($A$3<>0,HLOOKUP($A$3,Classe!$2:$565,IT32,0)," ") -> 0 | IN31: =IF($A$3<>0,HLOOKUP($IN$18,Classe!$3:$502,IT31,0)," ") -> 0 | IO31: =IF($A$3<>0,HLOOKUP($IO$18,Classe!$3:$502,IT31,0)," ") -> 0 | IP31: =IF($A$3<>0,HLOOKUP($IP$18,Classe!$3:$502,IT31,0)," ") -> 0 | IQ31: =IF($A$3<>0,HLOOKUP($IQ$18,Classe!$3:$502,IT31,0)," ") -> 0 | IR31: =IF($A$3<>0,HLOOKUP($IR$18,Classe!$3:$502,IT31,0)," ") -> 0 | IS31: =IF($A$3<>0,HLOOKUP($IS$18,Classe!$3:$502,IT31,0)," ") -> 0 | IT31: 14
... A319: =IF(IP319=0," ",IP319) | B319: =IF(IO319=0," ",IO319) | C319: =IF(IN319=0," ",IN319) | D319: =IF(IQ319=0," ",IQ319) | E319: =IF(IR319=0," ",IR319) | F319: =IF(IS319=0," ",IS319) | G319: =IF(AND(IM319>=1,IM319<=5),IF(IM319<>"",CHOOSE(IM319,$J$6,$J$7,$J$8,$J$9,$J$10),IM319),IM319) -> 0 | H319: =G319 -> 0 | IM319: =IF($A$3<>0,HLOOKUP($A$3,Classe!$2:$565,IT320,0)," ") -> 0 | IN319: =IF($A$3<>0,HLOOKUP($IN$18,Classe!$3:$502,IT319,0)," ") -> 0 | IO319: =IF($A$3<>0,HLOOKUP($IO$18,Classe!$3:$502,IT319,0)," ") -> 0 | IP319: =IF($A$3<>0,HLOOKUP($IP$18,Classe!$3:$502,IT319,0)," ") -> 0 | IQ319: =IF($A$3<>0,HLOOKUP($IQ$18,Classe!$3:$502,IT319,0)," ") -> 0 | IR319: =IF($A$3<>0,HLOOKUP($IR$18,Classe!$3:$502,IT319,0)," ") -> 0 | IS319: =IF($A$3<>0,HLOOKUP($IS$18,Classe!$3:$502,IT319,0)," ") -> 0 | IT319: 302
A320: =IF(IP320=0," ",IP320) | B320: =IF(IO320=0," ",IO320) | C320: =IF(IN320=0," ",IN320) | D320: =IF(IQ320=0," ",IQ320) | E320: =IF(IR320=0," ",IR320) | F320: =IF(IS320=0," ",IS320) | G320: =IF(AND(IM320>=1,IM320<=5),IF(IM320<>"",CHOOSE(IM320,$J$6,$J$7,$J$8,$J$9,$J$10),IM320),IM320) -> 0 | H320: =G320 -> 0 | IO320: =IF($A$3<>0,HLOOKUP($IO$18,Classe!$3:$502,IT320,0)," ") -> 0 | IP320: =IF($A$3<>0,HLOOKUP($IP$18,Classe!$3:$502,IT320,0)," ") -> 0 | IQ320: =IF($A$3<>0,HLOOKUP($IQ$18,Classe!$3:$502,IT320,0)," ") -> 0 | IR320: =IF($A$3<>0,HLOOKUP($IR$18,Classe!$3:$502,IT320,0)," ") -> 0 | IS320: =IF($A$3<>0,HLOOKUP($IS$18,Classe!$3:$502,IT320,0)," ") -> 0 | IT320: 303
A321: =IF(IP321=0," ",IP321) | B321: =IF(IO321=0," ",IO321) | C321: =IF(IN321=0," ",IN321) | D321: =IF(IQ321=0," ",IQ321) | E321: =IF(IR321=0," ",IR321) | F321: =IF(IS321=0," ",IS321) | G321: =IF(AND(IM321>=1,IM321<=5),IF(IM321<>"",CHOOSE(IM321,$J$6,$J$7,$J$8,$J$9,$J$10),IM321),IM321) -> 0 | H321: =G321 -> 0

Sheet Lisez-moi
A1: Important, à lire avant d'utiliser Tilékol V5:
A2: Tilekol V5 est régi par une licence Creative Commons CC BY-NC 4.0 (Attribution - Pas d’Utilisation Commerciale 4.0 International). Cela signifie que vous pouvez modifier, adapter, partager ce fichier, en respectant les conditions indiquées ici :
A3: https://creativecommons.org/licenses/by-nc/4.0/deed.fr
A4: Cette version fonctionne avec Excel 2007 et ultérieures Windows et Excel 2011 et ultérieures pour Mac.
A5: Tilékol V5 ne fonctionne PAS avec les versions antérieures d'Excel ou avec Open Office, Libre Office, Néo Office, etc…
A6: Il existe néanmoins une version compatible Libre Office. Elle est différente de celle-ci. Elle se trouve dans le dossier que vous avez téléchargé et s'appelle "tilekol_v5-Libre-Office.ods"
A7: Attention, vous êtes seul responsable de l'utilisation que vous faites de ce fichier informatique. Si vous avez décidé d'y indiquer des données personnelles concernant vos élèves (nom de famille, date de naissance, etc…) je vous suggère de lire attentivement cette page web (CNIL) :
A8: http://www.cnil.fr/documentation/deliberations/deliberation/delib/268/
A9: De plus, le RGPD (règlement européen qui protège les données personnelles, entré en vigueur le 25 mai 2018) est très contraignant concernant l'obtention, le stockage et l'usage qui est fait des données personnelles. Veuillez à rester dans la légalité !
A10: https://www.cnil.fr/fr/rgpd-par-ou-commencer
A11: Enregistrez le fichier avec l'extension .xlsx plutôt que .xls.
A12: 5/ Je vous déconseille de vous "passer" Tilékol entre vous. Pour des raisons de sécurité:
... A41: (onglet jaune)

Sheet Fiche-élève
A1: 1 | C1: =OFFSET(Observation!A3,0,$A$1) -> André DURAND, né le 1 avril 2006
B2: Elève : | C2: =IF(A1<>0,HLOOKUP(A1,Classe!2:3,2,0)," ") -> André
B5: =Observation!$A$17 -> Ici, vous écrivez les intitulés | C5: =OFFSET(Observation!A17,0,$A$1) -> 0
B6: =Observation!$A$18 -> Exemples : | C6: =OFFSET(Observation!A18,0,$A$1) -> 0
B7: =Observation!A19 -> Fratrie : rang | C7: =OFFSET(Observation!A19,0,$A$1) -> Deuxième sur trois enfants
B8: =Observation!A20 -> Dans l'école : | C8: =OFFSET(Observation!A20,0,$A$1) -> Oui, en CP (Albertine)
B9: =Observation!A21 -> Santé : | C9: =OFFSET(Observation!A21,0,$A$1) -> 0
B10: =Observation!A22 -> Allergies | C10: =OFFSET(Observation!A22,0,$A$1) -> OUI (fruits de mer) et steack haché
B11: =Observation!A23 -> PAI | C11: =OFFSET(Observation!A23,0,$A$1) -> Non
B12: =Observation!A24 -> Pathologie Dys | C12: =OFFSET(Observation!A24,0,$A$1) -> Non
B13: =Observation!A25 -> RASED : | C13: =OFFSET(Observation!A25,0,$A$1) -> 0
B14: =Observation!A26 -> Suivi | C14: =OFFSET(Observation!A26,0,$A$1) -> Oui
B15: =Observation!A27 -> Par | C15: =OFFSET(Observation!A27,0,$A$1) -> Mme Dupont
B16: =Observation!A28 -> Bilan Psy | C16: =OFFSET(Observation!A28,0,$A$1) -> Oui, le 10/08/2013
B17: =Observation!A29 -> 0 | C17: =OFFSET(Observation!A29,0,$A$1) -> 0
B18: =Observation!A30 -> 0 | C18: =OFFSET(Observation!A30,0,$A$1) -> 0
... B29: =Observation!A41 -> 0 | C29: =OFFSET(Observation!A41,0,$A$1) -> 0

Sheet Liste
A1: (Ne modifiez pas le contenu de cette colonne) | B1: Coop | C1: Sortie | D1: Autre | E1: Etc…
A2: =Classe!G3 -> André
A3: =Classe!H3 -> Bernard
A4: =Classe!I3 -> Brigitte
A5: =Classe!J3 -> Corinne
A6: =Classe!K3 -> Denis
A7: =Classe!L3 -> Eglantine
A8: =Classe!M3 -> François
A9: =Classe!N3 -> Hélène
A10: =Classe!O3 -> Lucie
A11: =Classe!P3 -> Marcel
A12: =Classe!Q3 -> Noémie
A13: =Classe!R3 -> Omar
A14: =Classe!S3 -> Pauline
A15: =Classe!T3 -> Samuel
A16: =Classe!U3 -> Thérèse
A17: =Classe!V3 -> Vince
A18: =Classe!W3 -> John
A19: =Classe!X3 -> Yoniess
A20: =Classe!Y3 -> Nabila
A21: =Classe!Z3 -> Kévina
A22: =Classe!AA3 -> Cyprien
A23: =Classe!AB3 -> Norman
A24: =Classe!AC3 -> Hugo
A25: =Classe!AD3 -> Jérome
A26: =Classe!AE3 -> 0
A27: =Classe!AF3 -> 0
A28: =Classe!AG3 -> 0
A29: =Classe!AH3 -> 0
A30: =Classe!AI3 -> 0
A31: =Classe!AJ3 -> 0
A32: =Classe!AK3 -> 0
A33: =Classe!AL3 -> 0
A34: =Classe!AM3 -> 0
A35: =Classe!AN3 -> 0
A36: =Classe!AO3 -> 0
A37: =Classe!AP3 -> 0
A38: =Classe!AQ3 -> 0
A39: =Classe!AR3 -> 0
A40: =Classe!AS3 -> 0
...

Sheet Etiquettes cahiers
A1: =Classe!$G$3 -> André | B1: =Classe!$H$3 -> Bernard | C1: =Classe!$I$3 -> Brigitte
A2: =F2 -> Cahier d'écriture | B2: =F2 -> Cahier d'écriture | C2: =F2 -> Cahier d'écriture | E2: Contenu de la ligne du bas : | F2: Cahier d'écriture
A3: =Classe!$J$3 -> Corinne | B3: =Classe!$K$3 -> Denis | C3: =Classe!$L$3 -> Eglantine
A4: =F2 -> Cahier d'écriture | B4: =F2 -> Cahier d'écriture | C4: =F2 -> Cahier d'écriture
A5: =Classe!$M$3 -> François | B5: =Classe!$N$3 -> Hélène | C5: =Classe!$O$3 -> Lucie
A6: =F2 -> Cahier d'écriture | B6: =F2 -> Cahier d'écriture | C6: =F2 -> Cahier d'écriture
A7: =Classe!$P$3 -> Marcel | B7: =Classe!$Q$3 -> Noémie | C7: =Classe!$R$3 -> Omar | F7: Avant d'imprimer, noubliez pas de définir la zone d'impression…
A8: =F2 -> Cahier d'écriture | B8: =F2 -> Cahier d'écriture | C8: =F2 -> Cahier d'écriture
A9: =Classe!$S$3 -> Pauline | B9: =Classe!$T$3 -> Samuel | C9: =Classe!$U$3 -> Thérèse
A10: =F2 -> Cahier d'écriture | B10: =F2 -> Cahier d'écriture | C10: =F2 -> Cahier d'écriture
A11: =Classe!$V$3 -> Vince | B11: =Classe!$W$3 -> John | C11: =Classe!$X$3 -> Yoniess
A12: =F2 -> Cahier d'écriture | B12: =F2 -> Cahier d'écriture | C12: =F2 -> Cahier d'écriture
A13: =Classe!$Y$3 -> Nabila | B13: =Classe!$Z$3 -> Kévina | C13: =Classe!$AA$3 -> Cyprien
A14: =F2 -> Cahier d'écriture | B14: =F2 -> Cahier d'écriture | C14: =F2 -> Cahier d'écriture
A15: =Classe!$AB$3 -> Norman | B15: =Classe!$AC$3 -> Hugo | C15: =Classe!$AD$3 -> Jérome
A16: =F2 -> Cahier d'écriture | B16: =F2 -> Cahier d'écriture | C16: =F2 -> Cahier d'écriture
A20: =Classe!$AE$3 -> 0 | B20: =Classe!$AF$3 -> 0 | C20: =Classe!$AG$3 -> 0
A21: =F2 -> Cahier d'écriture | B21: =F2 -> Cahier d'écriture | C21: =F2 -> Cahier d'écriture
A22: =Classe!$AH$3 -> 0 | B22: =Classe!$AI$3 -> 0 | C22: =Classe!$AJ$3 -> 0
A23: =F2 -> Cahier d'écriture | B23: =F2 -> Cahier d'écriture | C23: =F2 -> Cahier d'écriture
A24: =Classe!$AK$3 -> 0 | B24: =Classe!$AL$3 -> 0 | C24: =Classe!$AM$3 -> 0
A25: =F2 -> Cahier d'écriture | B25: =F2 -> Cahier d'écriture | C25: =F2 -> Cahier d'écriture
A26: =Classe!$AN$3 -> 0 | B26: =Classe!$AO$3 -> 0 | C26: =Classe!$AP$3 -> 0
A27: =F2 -> Cahier d'écriture | B27: =F2 -> Cahier d'écriture | C27: =F2 -> Cahier d'écriture
A28: =Classe!$AQ$3 -> 0 | B28: =Classe!$AR$3 -> 0 | C28: =Classe!$AS$3 -> 0
A29: =F2 -> Cahier d'écriture | B29: =F2 -> Cahier d'écriture | C29: =F2 -> Cahier d'écriture
A30: =Classe!$AT$3 -> 0 | B30: =Classe!$AU$3 -> 0 | C30: =Classe!$AV$3 -> 0
A31: =F2 -> Cahier d'écriture | B31: =F2 -> Cahier d'écriture | C31: =F2 -> Cahier d'écriture
A32: =Classe!$AW$3 -> 0 | B32: =Classe!$AX$3 -> 0 | C32: =Classe!$AY$3 -> 0
A33: =F2 -> Cahier d'écriture | B33: =F2 -> Cahier d'écriture | C33: =F2 -> Cahier d'écriture
A34: =Classe!$AZ$3 -> 0 | B34: =Classe!$BA$3 -> 0 | C34: =Classe!$BB$3 -> 0
A35: =F2 -> Cahier d'écriture | B35: =F2 -> Cahier d'écriture | C35: =F2 -> Cahier d'écriture
A36: =Classe!$BC$3 -> 0 | B36: =Classe!$BD$3 -> 0 | C36: =Classe!$BE$3 -> 0
A37: =$F$2 -> Cahier d'écriture | B37: =$F$2 -> Cahier d'écriture | C37: =$F$2 -> Cahier d'écriture

Sheet Etiquettes simples
A1: =Classe!$G$3 -> André | B1: =Classe!$H$3 -> Bernard
A2: =Classe!$I$3 -> Brigitte | B2: =Classe!$J$3 -> Corinne | D2: Surtout ne changez pas les prénoms de vos élèves ici, ils sont automatiquement reportés de l'onglet "Classe".
A3: =Classe!$K$3 -> Denis | B3: =Classe!$L$3 -> Eglantine
A4: =Classe!$M$3 -> François | B4: =Classe!$N$3 -> Hélène
A5: =Classe!$O$3 -> Lucie | B5: =Classe!$P$3 -> Marcel
A6: =Classe!$Q$3 -> Noémie | B6: =Classe!$R$3 -> Omar
A7: =Classe!$S$3 -> Pauline | B7: =Classe!$T$3 -> Samuel
A8: =Classe!$U$3 -> Thérèse | B8: =Classe!$V$3 -> Vince
A9: =Classe!$W$3 -> John | B9: =Classe!$X$3 -> Yoniess
A10: =Classe!$Y$3 -> Nabila | B10: =Classe!$Z$3 -> Kévina
A11: =Classe!$AA$3 -> Cyprien | B11: =Classe!$AB$3 -> Norman
A12: =Classe!$AC$3 -> Hugo | B12: =Classe!$AD$3 -> Jérome
A13: =Classe!$AE$3 -> 0 | B13: =Classe!$AF$3 -> 0
A14: =Classe!$AG$3 -> 0 | B14: =Classe!$AH$3 -> 0
A15: =Classe!$AI$3 -> 0 | B15: =Classe!$AJ$3 -> 0
A16: =Classe!$AK$3 -> 0 | B16: =Classe!$AL$3 -> 0
A17: =Classe!$AM$3 -> 0 | B17: =Classe!$AN$3 -> 0
A18: =Classe!$AO$3 -> 0 | B18: =Classe!$AP$3 -> 0
A19: =Classe!$AQ$3 -> 0 | B19: =Classe!$AR$3 -> 0
A20: =Classe!$AS$3 -> 0 | B20: =Classe!$AT$3 -> 0
A21: =Classe!$AU$3 -> 0 | B21: =Classe!$AV$3 -> 0
A22: =Classe!$AW$3 -> 0 | B22: =Classe!$AX$3 -> 0
A23: =Classe!$AY$3 -> 0 | B23: =Classe!$AZ$3 -> 0
A24: =Classe!$BA$3 -> 0 | B24: =Classe!$BB$3 -> 0
A25: =Classe!$BC$3 -> 0 | B25: =Classe!$BD$3 -> 0
A26: =Classe!$BE$3 -> 0

Sheet Appel
A3: Mois | B3: Nombre d'élèves | C3: Nombre de demi-journées de classe | D3: Nombre d'absences | E3: Nombre de présences possibles | F3: Nombre de présences réelles | G3: % absents | H3: % presents
A4: Août | B4: 25 | C4: 32 | D4: 17 | E4: =B4*C4 -> 800 | F4: =E4-D4 -> 783 | G4: =IFERROR(D4/E4,"") -> 0.02125 | H4: =IFERROR(F4/E4,"") -> 0.97875
A5: Septembre | E5: =B5*C5 -> 0 | F5: =E5-D5 -> 0 | G5: =IFERROR(D5/E5,"") | H5: =IFERROR(F5/E5,"")
A6: Octobre | E6: =B6*C6 -> 0 | F6: =E6-D6 -> 0 | G6: =IFERROR(D6/E6,"") | H6: =IFERROR(F6/E6,"")
A7: Novembre | E7: =B7*C7 -> 0 | F7: =E7-D7 -> 0 | G7: =IFERROR(D7/E7,"") | H7: =IFERROR(F7/E7,"")
A8: Décembre | E8: =B8*C8 -> 0 | F8: =E8-D8 -> 0 | G8: =IFERROR(D8/E8,"") | H8: =IFERROR(F8/E8,"")
A9: Janvier | E9: =B9*C9 -> 0 | F9: =E9-D9 -> 0 | G9: =IFERROR(D9/E9,"") | H9: =IFERROR(F9/E9,"")
A10: Février | E10: =B10*C10 -> 0 | F10: =E10-D10 -> 0 | G10: =IFERROR(D10/E10,"") | H10: =IFERROR(F10/E10,"") | J10: 0
A11: Mars | E11: =B11*C11 -> 0 | F11: =E11-D11 -> 0 | G11: =IFERROR(D11/E11,"") | H11: =IFERROR(F11/E11,"")
A12: Avril | E12: =B12*C12 -> 0 | F12: =E12-D12 -> 0 | G12: =IFERROR(D12/E12,"") | H12: =IFERROR(F12/E12,"")
A13: Mai | E13: =B13*C13 -> 0 | F13: =E13-D13 -> 0 | G13: =IFERROR(D13/E13,"") | H13: =IFERROR(F13/E13,"")
A14: Juin | E14: =B14*C14 -> 0 | F14: =E14-D14 -> 0 | G14: =IFERROR(D14/E14,"") | H14: =IFERROR(F14/E14,"")
A15: Juillet | E15: =B15*C15 -> 0 | F15: =E15-D15 -> 0 | G15: =IFERROR(D15/E15,"") | H15: =IFERROR(F15/E15,"")
F18: Moyenne annuelle : | G18: =IFERROR(AVERAGE(G4:G15),"") -> 0.02125 | H18: =IFERROR(AVERAGE(H4:H15),"") -> 0.97875

Sheet Appel demi journées
A3: Mois | C3: Nombre d'élèves | D3: Nombre de demi-journées (matin) | E3: Nombre de demi-journées (après-midi) | F3: Nombre d'absences (matin) | G3: Nombre d'absences (après-midi) | H3: Nombre de présences POSSIBLES (matin) | I3: Nombre de présences POSSIBLES (après-midi) | J3: Nombre de présences RÉELLES (matin) | K3: Nombre de présences RÉELLES (après-midi) | L3: % absents (matin) | M3: % absents (après-midi) | N3: % présents (matin) | O3: % presents (après-midi)
A4: Août | B4: CP | C4: 25 | D4: 15 | E4: 15 | F4: 12 | G4: 14 | H4: =C4*D4 -> 375 | I4: =C4*E4 -> 375 | J4: =H4-F4 -> 363 | K4: =I4-G4 -> 361 | L4: =IFERROR(F4/H4,"") -> 0.032 | M4: =IFERROR(G4/I4,"") -> 0.037333333 | N4: =IFERROR(J4/H4,"") -> 0.968 | O4: =IFERROR(K4/I4,"") -> 0.96266667
H5: =C5*D5 -> 0 | I5: =C5*E5 -> 0 | J5: =H5-F5 -> 0 | K5: =I5-G5 -> 0 | L5: =IFERROR(F5/H5,"") | M5: =IFERROR(G5/I5,"") | N5: =IFERROR(J5/H5,"") | O5: =IFERROR(K5/I5,"")
A6: Septembre | B6: =B4 -> CP | H6: =C6*D6 -> 0 | I6: =C6*E6 -> 0 | J6: =H6-F6 -> 0 | K6: =I6-G6 -> 0 | L6: =IFERROR(F6/H6,"") | M6: =IFERROR(G6/I6,"") | N6: =IFERROR(J6/H6,"") | O6: =IFERROR(K6/I6,"")
B7: =B5 -> 0 | H7: =C7*D7 -> 0 | I7: =C7*E7 -> 0 | J7: =H7-F7 -> 0 | K7: =I7-G7 -> 0 | L7: =IFERROR(F7/H7,"") | M7: =IFERROR(G7/I7,"") | N7: =IFERROR(J7/H7,"") | O7: =IFERROR(K7/I7,"")
A8: Octobre | B8: =B4 -> CP | H8: =C8*D8 -> 0 | I8: =C8*E8 -> 0 | J8: =H8-F8 -> 0 | K8: =I8-G8 -> 0 | L8: =IFERROR(F8/H8,"") | M8: =IFERROR(G8/I8,"") | N8: =IFERROR(J8/H8,"") | O8: =IFERROR(K8/I8,"")
B9: =B5 -> 0 | H9: =C9*D9 -> 0 | I9: =C9*E9 -> 0 | J9: =H9-F9 -> 0 | K9: =I9-G9 -> 0 | L9: =IFERROR(F9/H9,"") | M9: =IFERROR(G9/I9,"") | N9: =IFERROR(J9/H9,"") | O9: =IFERROR(K9/I9,"")
A10: Novembre | B10: =B4 -> CP | H10: =C10*D10 -> 0 | I10: =C10*E10 -> 0 | J10: =H10-F10 -> 0 | K10: =I10-G10 -> 0 | L10: =IFERROR(F10/H10,"") | M10: =IFERROR(G10/I10,"") | N10: =IFERROR(J10/H10,"") | O10: =IFERROR(K10/I10,"")
B11: =B5 -> 0 | H11: =C11*D11 -> 0 | I11: =C11*E11 -> 0 | J11: =H11-F11 -> 0 | K11: =I11-G11 -> 0 | L11: =IFERROR(F11/H11,"") | M11: =IFERROR(G11/I11,"") | N11: =IFERROR(J11/H11,"") | O11: =IFERROR(K11/I11,"")
A12: Décembre | B12: =B4 -> CP | H12: =C12*D12 -> 0 | I12: =C12*E12 -> 0 | J12: =H12-F12 -> 0 | K12: =I12-G12 -> 0 | L12: =IFERROR(F12/H12,"") | M12: =IFERROR(G12/I12,"") | N12: =IFERROR(J12/H12,"") | O12: =IFERROR(K12/I12,"")
B13: =B5 -> 0 | H13: =C13*D13 -> 0 | I13: =C13*E13 -> 0 | J13: =H13-F13 -> 0 | K13: =I13-G13 -> 0 | L13: =IFERROR(F13/H13,"") | M13: =IFERROR(G13/I13,"") | N13: =IFERROR(J13/H13,"") | O13: =IFERROR(K13/I13,"")
A14: Janvier | B14: =B4 -> CP | H14: =C14*D14 -> 0 | I14: =C14*E14 -> 0 | J14: =H14-F14 -> 0 | K14: =I14-G14 -> 0 | L14: =IFERROR(F14/H14,"") | M14: =IFERROR(G14/I14,"") | N14: =IFERROR(J14/H14,"") | O14: =IFERROR(K14/I14,"")
B15: =B5 -> 0 | H15: =C15*D15 -> 0 | I15: =C15*E15 -> 0 | J15: =H15-F15 -> 0 | K15: =I15-G15 -> 0 | L15: =IFERROR(F15/H15,"") | M15: =IFERROR(G15/I15,"") | N15: =IFERROR(J15/H15,"") | O15: =IFERROR(K15/I15,"")
A16: Février | B16: =B4 -> CP | H16: =C16*D16 -> 0 | I16: =C16*E16 -> 0 | J16: =H16-F16 -> 0 | K16: =I16-G16 -> 0 | L16: =IFERROR(F16/H16,"") | M16: =IFERROR(G16/I16,"") | N16: =IFERROR(J16/H16,"") | O16: =IFERROR(K16/I16,"")
B17: =B5 -> 0 | H17: =C17*D17 -> 0 | I17: =C17*E17 -> 0 | J17: =H17-F17 -> 0 | K17: =I17-G17 -> 0 | L17: =IFERROR(F17/H17,"") | M17: =IFERROR(G17/I17,"") | N17: =IFERROR(J17/H17,"") | O17: =IFERROR(K17/I17,"")
A18: Mars | B18: =B4 -> CP | H18: =C18*D18 -> 0 | I18: =C18*E18 -> 0 | J18: =H18-F18 -> 0 | K18: =I18-G18 -> 0 | L18: =IFERROR(F18/H18,"") | M18: =IFERROR(G18/I18,"") | N18: =IFERROR(J18/H18,"") | O18: =IFERROR(K18/I18,"")
B19: =B5 -> 0 | H19: =C19*D19 -> 0 | I19: =C19*E19 -> 0 | J19: =H19-F19 -> 0 | K19: =I19-G19 -> 0 | L19: =IFERROR(F19/H19,"") | M19: =IFERROR(G19/I19,"") | N19: =IFERROR(J19/H19,"") | O19: =IFERROR(K19/I19,"")
A20: Avril | B20: =B4 -> CP | H20: =C20*D20 -> 0 | I20: =C20*E20 -> 0 | J20: =H20-F20 -> 0 | K20: =I20-G20 -> 0 | L20: =IFERROR(F20/H20,"") | M20: =IFERROR(G20/I20,"") | N20: =IFERROR(J20/H20,"") | O20: =IFERROR(K20/I20,"")
B21: =B5 -> 0 | H21: =C21*D21 -> 0 | I21: =C21*E21 -> 0 | J21: =H21-F21 -> 0 | K21: =I21-G21 -> 0 | L21: =IFERROR(F21/H21,"") | M21: =IFERROR(G21/I21,"") | N21: =IFERROR(J21/H21,"") | O21: =IFERROR(K21/I21,"")
A22: Mai | B22: =B4 -> CP | H22: =C22*D22 -> 0 | I22: =C22*E22 -> 0 | J22: =H22-F22 -> 0 | K22: =I22-G22 -> 0 | L22: =IFERROR(F22/H22,"") | M22: =IFERROR(G22/I22,"") | N22: =IFERROR(J22/H22,"") | O22: =IFERROR(K22/I22,"")
B23: =B5 -> 0 | H23: =C23*D23 -> 0 | I23: =C23*E23 -> 0 | J23: =H23-F23 -> 0 | K23: =I23-G23 -> 0 | L23: =IFERROR(F23/H23,"") | M23: =IFERROR(G23/I23,"") | N23: =IFERROR(J23/H23,"") | O23: =IFERROR(K23/I23,"")
A24: Juin | B24: =B4 -> CP | H24: =C24*D24 -> 0 | I24: =C24*E24 -> 0 | J24: =H24-F24 -> 0 | K24: =I24-G24 -> 0 | L24: =IFERROR(F24/H24,"") | M24: =IFERROR(G24/I24,"") | N24: =IFERROR(J24/H24,"") | O24: =IFERROR(K24/I24,"")
B25: =B5 -> 0 | H25: =C25*D25 -> 0 | I25: =C25*E25 -> 0 | J25: =H25-F25 -> 0 | K25: =I25-G25 -> 0 | L25: =IFERROR(F25/H25,"") | M25: =IFERROR(G25/I25,"") | N25: =IFERROR(J25/H25,"") | O25: =IFERROR(K25/I25,"")
A26: Juillet | B26: =B4 -> CP | H26: =C26*D26 -> 0 | I26: =C26*E26 -> 0 | J26: =H26-F26 -> 0 | K26: =I26-G26 -> 0 | L26: =IFERROR(F26/H26,"") | M26: =IFERROR(G26/I26,"") | N26: =IFERROR(J26/H26,"") | O26: =IFERROR(K26/I26,"")
B27: =B5 -> 0 | H27: =C27*D27 -> 0 | I27: =C27*E27 -> 0 | J27: =H27-F27 -> 0 | K27: =I27-G27 -> 0 | L27: =IFERROR(F27/H27,"") | M27: =IFERROR(G27/I27,"") | N27: =IFERROR(J27/H27,"") | O27: =IFERROR(K27/I27,"")
I30: Moyenne annuelle : | L30: =IFERROR(AVERAGE(L4:L26),"") -> 0.032 | M30: =IFERROR(AVERAGE(M4:M26),"") -> 0.037333333 | N30: =IFERROR(AVERAGE(N4:N26),"") -> 0.968 | O30: =IFERROR(AVERAGE(O4:O26),"") -> 0.96266667
